BEGIN:VCALENDAR
VERSION:2.0
PRODID:-//Finnwelle - ECPv6.15.20//NONSGML v1.0//EN
CALSCALE:GREGORIAN
METHOD:PUBLISH
X-ORIGINAL-URL:https://finnwelle.de
X-WR-CALDESC:Veranstaltungen für Finnwelle
REFRESH-INTERVAL;VALUE=DURATION:PT1H
X-Robots-Tag:noindex
X-PUBLISHED-TTL:PT1H
BEGIN:VTIMEZONE
TZID:Europe/Berlin
BEGIN:DAYLIGHT
TZOFFSETFROM:+0100
TZOFFSETTO:+0200
TZNAME:CEST
DTSTART:20240331T010000
END:DAYLIGHT
BEGIN:STANDARD
TZOFFSETFROM:+0200
TZOFFSETTO:+0100
TZNAME:CET
DTSTART:20241027T010000
END:STANDARD
BEGIN:DAYLIGHT
TZOFFSETFROM:+0100
TZOFFSETTO:+0200
TZNAME:CEST
DTSTART:20250330T010000
END:DAYLIGHT
BEGIN:STANDARD
TZOFFSETFROM:+0200
TZOFFSETTO:+0100
TZNAME:CET
DTSTART:20251026T010000
END:STANDARD
BEGIN:DAYLIGHT
TZOFFSETFROM:+0100
TZOFFSETTO:+0200
TZNAME:CEST
DTSTART:20260329T010000
END:DAYLIGHT
BEGIN:STANDARD
TZOFFSETFROM:+0200
TZOFFSETTO:+0100
TZNAME:CET
DTSTART:20261025T010000
END:STANDARD
END:VTIMEZONE
BEGIN:VEVENT
DTSTART;VALUE=DATE:20250405
DTEND;VALUE=DATE:20250414
DTSTAMP:20260423T204246
CREATED:20241115T194905Z
LAST-MODIFIED:20250411T200829Z
UID:5174-1743811200-1744588799@finnwelle.de
SUMMARY:Open Finn European Championship - Neapel - RL 1\,70
DESCRIPTION:www.2025finneuropeans.org \n  \nZwischenergebnis \n  \nBrisk opening to 2025 Finn Europeans in Naples \n \nSizzling start to 2025 Finn season with European Championship in Naples
URL:https://finnwelle.de/regatten/open-european-championship-neapel-rl-170/
CATEGORIES:International
END:VEVENT
BEGIN:VEVENT
DTSTART;VALUE=DATE:20250412
DTEND;VALUE=DATE:20250414
DTSTAMP:20260423T204246
CREATED:20250121T204403Z
LAST-MODIFIED:20250417T211518Z
UID:5378-1744416000-1744588799@finnwelle.de
SUMMARY:Finnregatta Bevertalsperre - RL1\,00
DESCRIPTION:SVWu – Segler Vereinigung Wuppertal e.V. \nKäfernberg 12\n42499 Hückeswagen\nTel. 02192-93538131\neMail: info@svwu.de\nRegattaobmann: Holger Isringhaus  Regattawart@svwu.de\nwww.svwu.de\n\nAusschreibung\n\nOnline Meldung und Meldeliste\n\n\nhttps://finnwelle.de/news/kompassregatta-an-der-bevertalsperre/
URL:https://finnwelle.de/regatten/finnregatta-bevertalsperre-rl100/
LOCATION:SVWu – Segler Vereinigung Wuppertal e.V.\, Käfernberg 12\, Hückeswagen\, 42499\, Germany
CATEGORIES:Region West
ORGANIZER;CN="SVWu - Segler Vereinigung Wuppertal e.V.":MAILTO:info@svwu.de
END:VEVENT
END:VCALENDAR