BEGIN:VCALENDAR
VERSION:2.0
PRODID:-//Finnwelle - ECPv6.15.20//NONSGML v1.0//EN
CALSCALE:GREGORIAN
METHOD:PUBLISH
X-ORIGINAL-URL:https://finnwelle.de
X-WR-CALDESC:Veranstaltungen für Finnwelle
REFRESH-INTERVAL;VALUE=DURATION:PT1H
X-Robots-Tag:noindex
X-PUBLISHED-TTL:PT1H
BEGIN:VTIMEZONE
TZID:Europe/Berlin
BEGIN:DAYLIGHT
TZOFFSETFROM:+0100
TZOFFSETTO:+0200
TZNAME:CEST
DTSTART:20240331T010000
END:DAYLIGHT
BEGIN:STANDARD
TZOFFSETFROM:+0200
TZOFFSETTO:+0100
TZNAME:CET
DTSTART:20241027T010000
END:STANDARD
BEGIN:DAYLIGHT
TZOFFSETFROM:+0100
TZOFFSETTO:+0200
TZNAME:CEST
DTSTART:20250330T010000
END:DAYLIGHT
BEGIN:STANDARD
TZOFFSETFROM:+0200
TZOFFSETTO:+0100
TZNAME:CET
DTSTART:20251026T010000
END:STANDARD
BEGIN:DAYLIGHT
TZOFFSETFROM:+0100
TZOFFSETTO:+0200
TZNAME:CEST
DTSTART:20260329T010000
END:DAYLIGHT
BEGIN:STANDARD
TZOFFSETFROM:+0200
TZOFFSETTO:+0100
TZNAME:CET
DTSTART:20261025T010000
END:STANDARD
END:VTIMEZONE
BEGIN:VEVENT
DTSTART;VALUE=DATE:20250419
DTEND;VALUE=DATE:20250421
DTSTAMP:20260423T204247
CREATED:20241126T212215Z
LAST-MODIFIED:20250515T194605Z
UID:5220-1745020800-1745193599@finnwelle.de
SUMMARY:Rastatter Osterregatta - RL 1\,20 - Südwestmeisterschaft
DESCRIPTION:Ruderclub Rastatt e.V. \nAm Goldkanal 3 \n76477 Elchesheim-Illingen \nregatta@ruder-club-rastatt.de \nwww.ruder-club-rastatt.de \n  \nErgebnis \nOsterregatta Rastatt
URL:https://finnwelle.de/regatten/rastatter-osterregatta-rl-120-suedwestmeisterschaft/
LOCATION:Ruderclub Rastatt e.V.\, Am Goldkanal 3\, Elchesheim-Illingen\, 76477\, Deutschland
CATEGORIES:Region Süd-West
ORGANIZER;CN="Ruderclub Rastatt e.V.":MAILTO:regatta@ruder-club-rastatt.de
END:VEVENT
END:VCALENDAR