BEGIN:VCALENDAR
VERSION:2.0
PRODID:-//Finnwelle - ECPv6.15.20//NONSGML v1.0//EN
CALSCALE:GREGORIAN
METHOD:PUBLISH
X-ORIGINAL-URL:https://finnwelle.de
X-WR-CALDESC:Veranstaltungen für Finnwelle
REFRESH-INTERVAL;VALUE=DURATION:PT1H
X-Robots-Tag:noindex
X-PUBLISHED-TTL:PT1H
BEGIN:VTIMEZONE
TZID:Europe/Berlin
BEGIN:DAYLIGHT
TZOFFSETFROM:+0100
TZOFFSETTO:+0200
TZNAME:CEST
DTSTART:20240331T010000
END:DAYLIGHT
BEGIN:STANDARD
TZOFFSETFROM:+0200
TZOFFSETTO:+0100
TZNAME:CET
DTSTART:20241027T010000
END:STANDARD
BEGIN:DAYLIGHT
TZOFFSETFROM:+0100
TZOFFSETTO:+0200
TZNAME:CEST
DTSTART:20250330T010000
END:DAYLIGHT
BEGIN:STANDARD
TZOFFSETFROM:+0200
TZOFFSETTO:+0100
TZNAME:CET
DTSTART:20251026T010000
END:STANDARD
BEGIN:DAYLIGHT
TZOFFSETFROM:+0100
TZOFFSETTO:+0200
TZNAME:CEST
DTSTART:20260329T010000
END:DAYLIGHT
BEGIN:STANDARD
TZOFFSETFROM:+0200
TZOFFSETTO:+0100
TZNAME:CET
DTSTART:20261025T010000
END:STANDARD
END:VTIMEZONE
BEGIN:VEVENT
DTSTART;VALUE=DATE:20250501
DTEND;VALUE=DATE:20250505
DTSTAMP:20260423T192344
CREATED:20241126T212538Z
LAST-MODIFIED:20250507T201719Z
UID:5222-1746057600-1746403199@finnwelle.de
SUMMARY:67. Nesselblatt Steinhude – RL 1\,30
DESCRIPTION:SLSV – Schaumburg Lippischer Segelverein\, Steenewark\, Wunstorf\nSchaumburg-Lippischer Seglerverein e.V. \nwww.slsv.de \n  \nErgebnis \n  \nPost aus Steinhude – der “Classico” steht bevor!
URL:https://finnwelle.de/regatten/67-nesselblatt-steinhude-rl-130/
LOCATION:SLSV – Schaumburg Lippischer Segelverein\, Steenewark 27\, Wunstorf\, 31515\, Deutschland
CATEGORIES:Region West
END:VEVENT
BEGIN:VEVENT
DTSTART;VALUE=DATE:20250503
DTEND;VALUE=DATE:20250505
DTSTAMP:20260423T192344
CREATED:20241126T212939Z
LAST-MODIFIED:20250507T203110Z
UID:5224-1746230400-1746403199@finnwelle.de
SUMMARY:Allianz Cup Immenstaad - RL1\,00
DESCRIPTION:Yachtclub Immenstaad \nwww.yci-online.de \n  \nErgebnis \n 
URL:https://finnwelle.de/regatten/allianz-cup-immenstaad-rl100-3/
LOCATION:Yachtclub Immenstaad\, Bachstr. 17\, Immenstaad\, 88090\, Deutschland
CATEGORIES:Region Süd-West
END:VEVENT
BEGIN:VEVENT
DTSTART;VALUE=DATE:20250503
DTEND;VALUE=DATE:20250505
DTSTAMP:20260423T192344
CREATED:20250417T205628Z
LAST-MODIFIED:20250417T211017Z
UID:6290-1746230400-1746403199@finnwelle.de
SUMMARY:Südtirol Finncup - "Dr. Schär"-Trophäe - Coppa Italia - keine RL
DESCRIPTION:Segelverein Kalterer See \nSt. Josef am See 14\nI-39052 Kaltern (BZ) \nAusschreibung \n  \nSüdtirol Finncup – “Dr. Schär”-Trophäe – Coppa Italia \n \n 
URL:https://finnwelle.de/regatten/suedtirol-finncup-dr-schaer-trophaee-coppa-italia-keine-rl/
LOCATION:Segelverein Kalterer See\, St. Josef am See 14\, Kaltern\, 39052\, Italy
CATEGORIES:International
END:VEVENT
END:VCALENDAR