BEGIN:VCALENDAR
VERSION:2.0
PRODID:-//Finnwelle - ECPv6.15.20//NONSGML v1.0//EN
CALSCALE:GREGORIAN
METHOD:PUBLISH
X-ORIGINAL-URL:https://finnwelle.de
X-WR-CALDESC:Veranstaltungen für Finnwelle
REFRESH-INTERVAL;VALUE=DURATION:PT1H
X-Robots-Tag:noindex
X-PUBLISHED-TTL:PT1H
BEGIN:VTIMEZONE
TZID:Europe/Berlin
BEGIN:DAYLIGHT
TZOFFSETFROM:+0100
TZOFFSETTO:+0200
TZNAME:CEST
DTSTART:20240331T010000
END:DAYLIGHT
BEGIN:STANDARD
TZOFFSETFROM:+0200
TZOFFSETTO:+0100
TZNAME:CET
DTSTART:20241027T010000
END:STANDARD
BEGIN:DAYLIGHT
TZOFFSETFROM:+0100
TZOFFSETTO:+0200
TZNAME:CEST
DTSTART:20250330T010000
END:DAYLIGHT
BEGIN:STANDARD
TZOFFSETFROM:+0200
TZOFFSETTO:+0100
TZNAME:CET
DTSTART:20251026T010000
END:STANDARD
BEGIN:DAYLIGHT
TZOFFSETFROM:+0100
TZOFFSETTO:+0200
TZNAME:CEST
DTSTART:20260329T010000
END:DAYLIGHT
BEGIN:STANDARD
TZOFFSETFROM:+0200
TZOFFSETTO:+0100
TZNAME:CET
DTSTART:20261025T010000
END:STANDARD
END:VTIMEZONE
BEGIN:VEVENT
DTSTART;VALUE=DATE:20250523
DTEND;VALUE=DATE:20250526
DTSTAMP:20260425T125540
CREATED:20241126T214906Z
LAST-MODIFIED:20250603T210016Z
UID:5234-1747958400-1748217599@finnwelle.de
SUMMARY:ÖSTM - Österreichische Staatsmeisterschaft am Neusiedler See - RL1\,30
DESCRIPTION:YCBb Mörbisch\nMörbisch am Neusiedlersee \nhttps://www.ycbb.at \n  \nErgebnis \n 
URL:https://finnwelle.de/regatten/oestm-oesterreichische-staatsmeisterschaft-neusiedler-see-rl130/
CATEGORIES:International
END:VEVENT
BEGIN:VEVENT
DTSTART;VALUE=DATE:20250524
DTEND;VALUE=DATE:20250526
DTSTAMP:20260425T125540
CREATED:20241112T175358Z
LAST-MODIFIED:20250603T205832Z
UID:5092-1748044800-1748217599@finnwelle.de
SUMMARY:Schanzenberg Frühjahrsregatta - RL 1\,00
DESCRIPTION:Segler-Club Hansa\nSchanzenberg 10 \n23627 Groß Sarau \nwww.segler-club-hansa.de \n  \nErgebnis \nSchanzenberg Frühjahrsregatta 2025
URL:https://finnwelle.de/regatten/schanzenberg-fruehjahrsregatta-10/
LOCATION:SCH – Segler Club Hansa v. 1898 e.V.\, Schanzenberg 10\, Groß Sarau\, 23627\, Deutschland
CATEGORIES:Region Nord
END:VEVENT
BEGIN:VEVENT
DTSTART;VALUE=DATE:20250524
DTEND;VALUE=DATE:20250526
DTSTAMP:20260425T125540
CREATED:20241112T213420Z
LAST-MODIFIED:20250525T121258Z
UID:5156-1748044800-1748217599@finnwelle.de
SUMMARY:Finn-Cup am Scharmützelsee – RL1\,10 - LM Brandenburg
DESCRIPTION:Seglergemeinschaft Scharmützelsee e.V.\nThomas Rottenberg\nRegattastraße 2\n15526 Bad Saarow \nwww.sgs-segeln.de \n  \nErgebnis \n 
URL:https://finnwelle.de/regatten/finn-cup-am-scharmuetzelsee-rl100-4/
LOCATION:Seglergemeinschaft Scharmützelsee e.V.\, Regattastraße 2\, Bad Saarow\, 15526\, Deutschland
CATEGORIES:Region Ost
END:VEVENT
BEGIN:VEVENT
DTSTART;VALUE=DATE:20250524
DTEND;VALUE=DATE:20250526
DTSTAMP:20260425T125540
CREATED:20241126T215144Z
LAST-MODIFIED:20250603T210105Z
UID:5236-1748044800-1748217599@finnwelle.de
SUMMARY:Einhand Langen - RL1\,00
DESCRIPTION:Dreieich Segel-Club Langen e.V. \nhttp://www.dscl.de/ \nE-Mail: detlev.guminski@gmail.com\nMobil: 0151 23023948 \n  \nErgebnis \n 
URL:https://finnwelle.de/regatten/einhand-langen-rl100-3/
LOCATION:DSCL Dreieich Segelclub Langen e.V.\, Sehringstrasse 3\, Langen\, Hessen\, 63225\, Deutschland
CATEGORIES:Region Süd-West
END:VEVENT
BEGIN:VEVENT
DTSTART;VALUE=DATE:20250524
DTEND;VALUE=DATE:20250526
DTSTAMP:20260425T125540
CREATED:20250228T221114Z
LAST-MODIFIED:20250507T210625Z
UID:6021-1748044800-1748217599@finnwelle.de
SUMMARY:Ammersee Pokal - RL1\,00
DESCRIPTION:SGA – Segelgemeinschaft Augsburg\nSeeweg Süd 85\n86911 Dießen am Ammersee \nwww.sga-online.de  \n  \nAusschreibung\nOnline Meldung und Meldeliste
URL:https://finnwelle.de/regatten/ammersee-pokal-rl100-3/
LOCATION:SGA-Segelgemeinschaft Augsburg\, Seeweg Süd 85\, Dießen am Ammersee\, 86911\, Deutschland
CATEGORIES:Region Süd
END:VEVENT
END:VCALENDAR