BEGIN:VCALENDAR
VERSION:2.0
PRODID:-//Finnwelle - ECPv6.15.20//NONSGML v1.0//EN
CALSCALE:GREGORIAN
METHOD:PUBLISH
X-ORIGINAL-URL:https://finnwelle.de
X-WR-CALDESC:Veranstaltungen für Finnwelle
REFRESH-INTERVAL;VALUE=DURATION:PT1H
X-Robots-Tag:noindex
X-PUBLISHED-TTL:PT1H
BEGIN:VTIMEZONE
TZID:Europe/Berlin
BEGIN:DAYLIGHT
TZOFFSETFROM:+0100
TZOFFSETTO:+0200
TZNAME:CEST
DTSTART:20240331T010000
END:DAYLIGHT
BEGIN:STANDARD
TZOFFSETFROM:+0200
TZOFFSETTO:+0100
TZNAME:CET
DTSTART:20241027T010000
END:STANDARD
BEGIN:DAYLIGHT
TZOFFSETFROM:+0100
TZOFFSETTO:+0200
TZNAME:CEST
DTSTART:20250330T010000
END:DAYLIGHT
BEGIN:STANDARD
TZOFFSETFROM:+0200
TZOFFSETTO:+0100
TZNAME:CET
DTSTART:20251026T010000
END:STANDARD
BEGIN:DAYLIGHT
TZOFFSETFROM:+0100
TZOFFSETTO:+0200
TZNAME:CEST
DTSTART:20260329T010000
END:DAYLIGHT
BEGIN:STANDARD
TZOFFSETFROM:+0200
TZOFFSETTO:+0100
TZNAME:CET
DTSTART:20261025T010000
END:STANDARD
END:VTIMEZONE
BEGIN:VEVENT
DTSTART;VALUE=DATE:20250528
DTEND;VALUE=DATE:20250602
DTSTAMP:20260419T164701
CREATED:20241126T215405Z
LAST-MODIFIED:20250603T210508Z
UID:5239-1748390400-1748822399@finnwelle.de
SUMMARY:Schweizer Meisterschaft Arbon Bodensee - RL1\,30
DESCRIPTION:Ergebnis \nBericht zur Finn Schweizer Meisterschaft 2025 in Arbon \n \n  \n 
URL:https://finnwelle.de/regatten/schweizer-meisterschaft-arbon-bodensee-rl130/
CATEGORIES:International
END:VEVENT
BEGIN:VEVENT
DTSTART;VALUE=DATE:20250531
DTEND;VALUE=DATE:20250602
DTSTAMP:20260419T164701
CREATED:20241126T220427Z
LAST-MODIFIED:20250603T210614Z
UID:5241-1748649600-1748822399@finnwelle.de
SUMMARY:Ammerländer Finn-Cup - Friesen-Cup – RL 1\,00 - ABGESAGT
DESCRIPTION:Zwischenahner Segelklub von 1893 e.V. \nMeldestelle: \nSeerosenweg 10\n26160 Bad Zwischenahn \nFax 04403/983127\nwww.zsklub.de \n 
URL:https://finnwelle.de/regatten/ammerlaender-finn-cup-friesen-cup-rl-100/
LOCATION:Zwischenahner Segelklub von 1893 e.V.\, Seerosenweg 10\, Bad Zwischenahn\, 26160\, Deutschland
CATEGORIES:Region Nord
END:VEVENT
BEGIN:VEVENT
DTSTART;VALUE=DATE:20250531
DTEND;VALUE=DATE:20250602
DTSTAMP:20260419T164701
CREATED:20241207T131144Z
LAST-MODIFIED:20250617T055229Z
UID:5275-1748649600-1748822399@finnwelle.de
SUMMARY:Krombach Classic -  Landesmeisterschaft Hessen - RL1\,10
DESCRIPTION:Segelclub Westerwald e.V.\nMüllersholz 21\n35759 Driedorf / Mademühlen\nTel: 02775 / 50 66\nvorstand@scww.de \nwww.scww.de \n  \nErgebnis \n  \nKrombach Classics – Eine Wettfahrtwochenende\, an dem man teilnehmen muss…
URL:https://finnwelle.de/regatten/krombach-classic-landesmeisterschaft-hessen-rl110-4/
LOCATION:Segelclub Westerwald e.V.\, Müllersholz 21\, Driedorf / Mademühlen\, 35759\, Deutschland
CATEGORIES:Region Süd-West
ORGANIZER;CN="Segelclub Westerwald":MAILTO:vorstand@scww.de
END:VEVENT
END:VCALENDAR