BEGIN:VCALENDAR
VERSION:2.0
PRODID:-//Finnwelle - ECPv6.15.20//NONSGML v1.0//EN
CALSCALE:GREGORIAN
METHOD:PUBLISH
X-WR-CALNAME:Finnwelle
X-ORIGINAL-URL:https://finnwelle.de
X-WR-CALDESC:Veranstaltungen für Finnwelle
REFRESH-INTERVAL;VALUE=DURATION:PT1H
X-Robots-Tag:noindex
X-PUBLISHED-TTL:PT1H
BEGIN:VTIMEZONE
TZID:Europe/Berlin
BEGIN:DAYLIGHT
TZOFFSETFROM:+0100
TZOFFSETTO:+0200
TZNAME:CEST
DTSTART:20240331T010000
END:DAYLIGHT
BEGIN:STANDARD
TZOFFSETFROM:+0200
TZOFFSETTO:+0100
TZNAME:CET
DTSTART:20241027T010000
END:STANDARD
BEGIN:DAYLIGHT
TZOFFSETFROM:+0100
TZOFFSETTO:+0200
TZNAME:CEST
DTSTART:20250330T010000
END:DAYLIGHT
BEGIN:STANDARD
TZOFFSETFROM:+0200
TZOFFSETTO:+0100
TZNAME:CET
DTSTART:20251026T010000
END:STANDARD
BEGIN:DAYLIGHT
TZOFFSETFROM:+0100
TZOFFSETTO:+0200
TZNAME:CEST
DTSTART:20260329T010000
END:DAYLIGHT
BEGIN:STANDARD
TZOFFSETFROM:+0200
TZOFFSETTO:+0100
TZNAME:CET
DTSTART:20261025T010000
END:STANDARD
END:VTIMEZONE
BEGIN:VEVENT
DTSTART;VALUE=DATE:20250726
DTEND;VALUE=DATE:20250728
DTSTAMP:20260419T135741
CREATED:20241207T135254Z
LAST-MODIFIED:20250801T072531Z
UID:5294-1753488000-1753660799@finnwelle.de
SUMMARY:Südseecup Seeshaupt – Süddeutsche Meisterschaft – RL1\,20
DESCRIPTION:Yacht-Club Seeshaupt YCSS\nSt. Heinricher Str. 117\n82402 Seeshaupt\n+49 (0) 8801 – 21 41\noffice@ycss.de\nwww.ycss.de \n  \nErgebnis \nSüddeutsche Meisterschaft der Finn Dinghys 2025 – Starker Auftritt am Starnberger See trotz Regen und Flaute
URL:https://finnwelle.de/regatten/suedseecup-seeshaupt-sueddeutsche-meisterschaft-rl120/
CATEGORIES:Region Süd
ORGANIZER;CN="Yacht-Club Seeshaupt YCSS":MAILTO:office@ycss.de
END:VEVENT
END:VCALENDAR