BEGIN:VCALENDAR
VERSION:2.0
PRODID:-//Finnwelle - ECPv6.15.20//NONSGML v1.0//EN
CALSCALE:GREGORIAN
METHOD:PUBLISH
X-ORIGINAL-URL:https://finnwelle.de
X-WR-CALDESC:Veranstaltungen für Finnwelle
REFRESH-INTERVAL;VALUE=DURATION:PT1H
X-Robots-Tag:noindex
X-PUBLISHED-TTL:PT1H
BEGIN:VTIMEZONE
TZID:Europe/Berlin
BEGIN:DAYLIGHT
TZOFFSETFROM:+0100
TZOFFSETTO:+0200
TZNAME:CEST
DTSTART:20240331T010000
END:DAYLIGHT
BEGIN:STANDARD
TZOFFSETFROM:+0200
TZOFFSETTO:+0100
TZNAME:CET
DTSTART:20241027T010000
END:STANDARD
BEGIN:DAYLIGHT
TZOFFSETFROM:+0100
TZOFFSETTO:+0200
TZNAME:CEST
DTSTART:20250330T010000
END:DAYLIGHT
BEGIN:STANDARD
TZOFFSETFROM:+0200
TZOFFSETTO:+0100
TZNAME:CET
DTSTART:20251026T010000
END:STANDARD
BEGIN:DAYLIGHT
TZOFFSETFROM:+0100
TZOFFSETTO:+0200
TZNAME:CEST
DTSTART:20260329T010000
END:DAYLIGHT
BEGIN:STANDARD
TZOFFSETFROM:+0200
TZOFFSETTO:+0100
TZNAME:CET
DTSTART:20261025T010000
END:STANDARD
END:VTIMEZONE
BEGIN:VEVENT
DTSTART;VALUE=DATE:20250920
DTEND;VALUE=DATE:20250922
DTSTAMP:20260423T102537
CREATED:20241207T160359Z
LAST-MODIFIED:20251007T194458Z
UID:5316-1758326400-1758499199@finnwelle.de
SUMMARY:Finnregatta Plobsheim – RL 1\,00
DESCRIPTION:Aquatic Club dÀlsace et de Lorraine \n19 Rue de l`Oberelsau\n67200 Strassburg \nhttp://www.acal67.com/ \nyves.zoccola@gmail.com \n  \nErgebnis \n 
URL:https://finnwelle.de/regatten/finnregatta-plobsheim-rl-100/
LOCATION:Aquatic Club dÀlsace et de Lorraine\, 19 Rue de l`Oberelsau\, Strassburg\, 67200\, Frankreich
CATEGORIES:Region Süd-West
ORGANIZER;CN="Aquatic Club d%C3%80lsace et de Lorraine":MAILTO:yves.zoccola@gmail.com
END:VEVENT
END:VCALENDAR